BEGIN:VCALENDAR
PRODID:-//Riksbanken//riksbanken.se//SV
VERSION:2.0
BEGIN:VEVENT
DTSTART:20250902T090000Z
DTSTAMP:20260425T141800Z
UID:5e1daaf7e7244341a9bf5d8d648986a7
CREATED:20260425T141800Z
DESCRIPTION:The Transmission of Foreign Shocks in a Networked Economy
LAST-MODIFIED:20260425T141800Z
LOCATION:
SEQUENCE:0
STATUS:CONFIRMED
SUMMARY:José-Elias Gallegos, Bank of Spain
TRANSP:OPAQUE
END:VEVENT
END:VCALENDAR
