BEGIN:VCALENDAR
PRODID:-//Riksbanken//riksbanken.se//SV
VERSION:2.0
BEGIN:VEVENT
DTSTART:20250908T090000Z
DTSTAMP:20260425T141506Z
UID:34d45837cf364d999eb647f525fae03d
CREATED:20260425T141506Z
DESCRIPTION:Payments, Velocity, Prices and Output
LAST-MODIFIED:20260425T141506Z
LOCATION:
SEQUENCE:0
STATUS:CONFIRMED
SUMMARY:Dirk Niepelt, University of Bern
TRANSP:OPAQUE
END:VEVENT
END:VCALENDAR
