BEGIN:VCALENDAR
PRODID:-//Riksbanken//riksbanken.se//SV
VERSION:2.0
BEGIN:VEVENT
DTSTART:20250910T090000Z
DTSTAMP:20260425T141958Z
UID:058858aeb11b4c92a316831c7c65ffab
CREATED:20260425T141958Z
DESCRIPTION:Green Business Cycles
LAST-MODIFIED:20260425T141958Z
LOCATION:
SEQUENCE:0
STATUS:CONFIRMED
SUMMARY:Maximilian Konradt, Imperial College Business School
TRANSP:OPAQUE
END:VEVENT
END:VCALENDAR
