BEGIN:VCALENDAR
PRODID:-//Riksbanken//riksbanken.se//SV
VERSION:2.0
BEGIN:VEVENT
DTSTART:20250916T090000Z
DTSTAMP:20260424T233508Z
UID:173e44a1ed54474389de29c26d3fef73
CREATED:20260424T233508Z
DESCRIPTION:Does the transmission of monetary policy shocks change when inflation is high?
LAST-MODIFIED:20260424T233508Z
LOCATION:
SEQUENCE:0
STATUS:CONFIRMED
SUMMARY:Prof. Fabio Canova
TRANSP:OPAQUE
END:VEVENT
END:VCALENDAR
