BEGIN:VCALENDAR
PRODID:-//Riksbanken//riksbanken.se//SV
VERSION:2.0
BEGIN:VEVENT
DTSTART:20251009T090000Z
DTSTAMP:20260425T222842Z
UID:0c53d4c8d21e429f8ed6a256cbe1757b
CREATED:20260425T222842Z
DESCRIPTION:Fiscal Foundations of Inflation: Seeing Beyond the Monetary Narrative
LAST-MODIFIED:20260425T222842Z
LOCATION:
SEQUENCE:0
STATUS:CONFIRMED
SUMMARY:Eric Leeper, University of Virginia
TRANSP:OPAQUE
END:VEVENT
END:VCALENDAR
