BEGIN:VCALENDAR
PRODID:-//Riksbanken//riksbanken.se//SV
VERSION:2.0
BEGIN:VEVENT
DTSTART:20251016T090000Z
DTSTAMP:20260425T222618Z
UID:c7ba8722d5624c78b7b1badfbbbc7dd8
CREATED:20260425T222618Z
DESCRIPTION:The life experience of central bankers and monetary policy decisions: a cross-country dataset
LAST-MODIFIED:20260425T222618Z
LOCATION:
SEQUENCE:0
STATUS:CONFIRMED
SUMMARY:Carlos Madeira, Central Bank of Chile
TRANSP:OPAQUE
END:VEVENT
END:VCALENDAR
