BEGIN:VCALENDAR
PRODID:-//Riksbanken//riksbanken.se//SV
VERSION:2.0
BEGIN:VEVENT
DTSTART:20251021T090000Z
DTSTAMP:20260425T222741Z
UID:cd3619345c414e7f99ab0eafc1693eb2
CREATED:20260425T222741Z
DESCRIPTION:Local Permanent Fiscal Multipliers
LAST-MODIFIED:20260425T222741Z
LOCATION:
SEQUENCE:0
STATUS:CONFIRMED
SUMMARY:Martin B. Holm, University of Oslo
TRANSP:OPAQUE
END:VEVENT
END:VCALENDAR
