BEGIN:VCALENDAR
PRODID:-//Riksbanken//riksbanken.se//SV
VERSION:2.0
BEGIN:VEVENT
DTSTART:20251028T100000Z
DTSTAMP:20260425T222415Z
UID:c97cc8fa53a74d18b1a6651c2083e835
CREATED:20260425T222415Z
DESCRIPTION:Fiscal Policy under Labor Shortages: When Demand Meets a Wall
LAST-MODIFIED:20260425T222415Z
LOCATION:
SEQUENCE:0
STATUS:CONFIRMED
SUMMARY:Brigitte Hochmuth, University of Copenhagen
TRANSP:OPAQUE
END:VEVENT
END:VCALENDAR
