BEGIN:VCALENDAR
PRODID:-//Riksbanken//riksbanken.se//SV
VERSION:2.0
BEGIN:VEVENT
DTSTART:20251104T100000Z
DTSTAMP:20260423T133640Z
UID:388d59072edc482683e3c7d364309143
CREATED:20260423T133640Z
DESCRIPTION:Unfinished Business: The Long Ascent of Women into Corporate Leadership
LAST-MODIFIED:20260423T133640Z
LOCATION:
SEQUENCE:0
STATUS:CONFIRMED
SUMMARY:Carola Frydman, Northwestern Kellog School of Management
TRANSP:OPAQUE
END:VEVENT
END:VCALENDAR
