BEGIN:VCALENDAR
PRODID:-//Riksbanken//riksbanken.se//SV
VERSION:2.0
BEGIN:VEVENT
DTSTART:20251118T100000Z
DTSTAMP:20260423T133640Z
UID:71371f748a904499ab453609ab2fe2b4
CREATED:20260423T133640Z
DESCRIPTION:Do Informed Consumers Pay Less? Evidence from a Survey with Linked Grocery Purchase Data
LAST-MODIFIED:20260423T133640Z
LOCATION:
SEQUENCE:0
STATUS:CONFIRMED
SUMMARY:Richard Friberg, Stockholm School of Economics
TRANSP:OPAQUE
END:VEVENT
END:VCALENDAR
