BEGIN:VCALENDAR
PRODID:-//Riksbanken//riksbanken.se//SV
VERSION:2.0
BEGIN:VEVENT
DTSTART:20251209T100000Z
DTSTAMP:20260423T133605Z
UID:1f8a6c67e90c415f9255ad417c660bd7
CREATED:20260423T133605Z
DESCRIPTION:Policy, News and Noise: Do Funds Rate Surprises Matter Anymore?
LAST-MODIFIED:20260423T133605Z
LOCATION:
SEQUENCE:0
STATUS:CONFIRMED
SUMMARY:Özer Karagedikli, Asia School of Business
TRANSP:OPAQUE
END:VEVENT
END:VCALENDAR
