BEGIN:VCALENDAR
PRODID:-//Riksbanken//riksbanken.se//SV
VERSION:2.0
BEGIN:VEVENT
DTSTART:20251216T100000Z
DTSTAMP:20260423T133640Z
UID:c29afcb6d1104d91a59897e956576273
CREATED:20260423T133640Z
DESCRIPTION:Branching Out: Capital Mobility and Long-Run Growth
LAST-MODIFIED:20260423T133640Z
LOCATION:
SEQUENCE:0
STATUS:CONFIRMED
SUMMARY:Chenzi Xu, Berkeley
TRANSP:OPAQUE
END:VEVENT
END:VCALENDAR
