BEGIN:VCALENDAR
PRODID:-//Riksbanken//riksbanken.se//SV
VERSION:2.0
BEGIN:VEVENT
DTSTART:20250131T113000Z
DTSTAMP:20260424T203028Z
UID:0773f0596fff435d81c1e9fdac15091b
CREATED:20260424T203028Z
DESCRIPTION:Deputy Governor Per Jansson will discuss current monetary policy and the economic situation at an event organised by Handelsbanken.
For more information, contact press@handelsbanken.se.
Per Jansson will be available on site for comments to the media after the event. For more information, please contact Press Officer Susanne Meyer, Susanne.meyer@riksbank.se , mobile: +46 70 246 61 67.\n\nOrganiser:  Handelsbanken
LAST-MODIFIED:20260424T203028Z
LOCATION:High Court, Malmöhusvägen 1, Malmö
SEQUENCE:0
STATUS:CONFIRMED
SUMMARY:Jansson: Current monetary policy and the economic situation
TRANSP:OPAQUE
END:VEVENT
END:VCALENDAR
