BEGIN:VCALENDAR
PRODID:-//Riksbanken//riksbanken.se//SV
VERSION:2.0
BEGIN:VEVENT
DTSTART:20250206T141500Z
DTSTAMP:20260420T153033Z
UID:bccf5e8db2ca4a5497f8bebeafe5178b
CREATED:20260420T153033Z
DESCRIPTION:Deputy Governor Aino Bunge will participate in SUERF´s online event “Where do Banks end and NBFIs begin?”.
Read more on SUERF´s website.\n\nOrganiser:  SUERF
LAST-MODIFIED:20260420T153033Z
LOCATION:Webex
SEQUENCE:0
STATUS:CONFIRMED
SUMMARY:Bunge: Where do Banks end and NBFIs begin?
TRANSP:OPAQUE
END:VEVENT
END:VCALENDAR
