BEGIN:VCALENDAR
PRODID:-//Riksbanken//riksbanken.se//SV
VERSION:2.0
BEGIN:VEVENT
DTSTART:20250207T120000Z
DTEND:20250207T140000Z
DTSTAMP:20260420T153210Z
UID:fdd90e5559da417cb9da432650816fe0
CREATED:20260420T153210Z
DESCRIPTION:
LAST-MODIFIED:20260420T153210Z
LOCATION:
SEQUENCE:0
STATUS:CONFIRMED
SUMMARY:Meeting of the General Council of the Riksbank
TRANSP:OPAQUE
END:VEVENT
END:VCALENDAR
