BEGIN:VCALENDAR
PRODID:-//Riksbanken//riksbanken.se//SV
VERSION:2.0
BEGIN:VEVENT
DTSTART:20250211T170000Z
DTSTAMP:20260420T153418Z
UID:f1d6435d10ca4cb9ac53e00f6ce8ce5d
CREATED:20260420T153418Z
DESCRIPTION:Deputy Governor Anna Seim will visit Eskilstuna to discuss the economic situation at Consensus Asset Management.
For more information, contact Jonas Tilly (jonas.tilly@consensusam.se).
Anna Seim will be available on site for comments to the media after the event. For more information, please contact Press Officer Susanne Meyer, Susanne.meyer@riksbank.se, mobile: +46 70 246 61 67.\n\nOrganiser:  Consensus Asset Management
LAST-MODIFIED:20260420T153418Z
LOCATION:Filmstaden, Kungsgatan 66, Eskilstuna
SEQUENCE:0
STATUS:CONFIRMED
SUMMARY:Seim: The Economic Situation
TRANSP:OPAQUE
END:VEVENT
END:VCALENDAR
