BEGIN:VCALENDAR
PRODID:-//Riksbanken//riksbanken.se//SV
VERSION:2.0
BEGIN:VEVENT
DTSTART:20250212T080000Z
DTSTAMP:20260420T153401Z
UID:a46a0edd8c37411ba7f65660e2268c1c
CREATED:20260420T153401Z
DESCRIPTION:
LAST-MODIFIED:20260420T153401Z
LOCATION:
SEQUENCE:0
STATUS:CONFIRMED
SUMMARY:Meeting of the Executive Board of the Riksbank
TRANSP:OPAQUE
END:VEVENT
END:VCALENDAR
