BEGIN:VCALENDAR
PRODID:-//Riksbanken//riksbanken.se//SV
VERSION:2.0
BEGIN:VEVENT
DTSTART:20250212T090000Z
DTSTAMP:20260420T153338Z
UID:219ff02dd98d4334a74022d943b47da8
CREATED:20260420T153338Z
DESCRIPTION:Deputy Governor Aino Bunge will visit London.

10.00 – 11.00, she will discuss the economic situation and current monetary policy at JP Morgan. The event will be open to the media. Journalists wishing to participate on site or via live stream can contact amelia.cook@jpmorgan.com.
Aino Bunge will be available on site for comments to the media after the event. For more information, please contact Press Officer Charlotta Edler, charlotta.edler@riksbank.se, mobile: +46 76 725 66 24.

14.00 – 15.00, she will discuss developments in the payments market at SEB’s Northern Thoughts Day. The event will not be open to the media.

The events are in local time.
A summary of her discussion at both events will be published on the Riksbank’s website at 11.00 (CET).\n\nOrganiser:  JP Morgan, SEB
LAST-MODIFIED:20260420T153338Z
LOCATION:JPMorgan City office: 60 Victoria Embankment, London, EC4Y 0JP
SEQUENCE:0
STATUS:CONFIRMED
SUMMARY:Aino Bunge to visit London
TRANSP:OPAQUE
END:VEVENT
END:VCALENDAR
