BEGIN:VCALENDAR
PRODID:-//Riksbanken//riksbanken.se//SV
VERSION:2.0
BEGIN:VEVENT
DTSTART:20250213T070000Z
DTSTAMP:20260420T153527Z
UID:68748d2aade748b8be57d2cda4cddcaf
CREATED:20260420T153527Z
DESCRIPTION:Deputy Governor Per Jansson will discuss trust and flexibility going forward at Handelsbanken.
For more information, contact press@handelsbanken.se or joel.holm@handelsbanken.se
The full speech will be publiched at riksbank.se.
Per Jansson will be available on site for comments to the media after the event. For more information, please contact Press Officer Susanne Meyer, Susanne.meyer@riksbank.se, mobile: +46 70 246 61 67.\n\nOrganiser:  Handelsbanken
LAST-MODIFIED:20260420T153527Z
LOCATION:Handelsbanken Kungsträdgården, ingång Grevgränd 3
SEQUENCE:0
STATUS:CONFIRMED
SUMMARY:Jansson: Trust and flexibility going forward
TRANSP:OPAQUE
END:VEVENT
END:VCALENDAR
