BEGIN:VCALENDAR
PRODID:-//Riksbanken//riksbanken.se//SV
VERSION:2.0
BEGIN:VEVENT
DTSTART:20250214T120000Z
DTEND:20250214T140000Z
DTSTAMP:20260420T153233Z
UID:0dcdea8cc21d4e3dbee2cad565d51feb
CREATED:20260420T153233Z
DESCRIPTION:
LAST-MODIFIED:20260420T153233Z
LOCATION:
SEQUENCE:0
STATUS:CONFIRMED
SUMMARY:Meeting of the General Council of the Riksbank
TRANSP:OPAQUE
END:VEVENT
END:VCALENDAR
