BEGIN:VCALENDAR
PRODID:-//Riksbanken//riksbanken.se//SV
VERSION:2.0
BEGIN:VEVENT
DTSTART:20250219T080000Z
DTSTAMP:20260420T153347Z
UID:77cd9118912a4ff3b12751e054700818
CREATED:20260420T153347Z
DESCRIPTION:
LAST-MODIFIED:20260420T153347Z
LOCATION:
SEQUENCE:0
STATUS:CONFIRMED
SUMMARY:Meeting of the Executive Board of the Riksbank
TRANSP:OPAQUE
END:VEVENT
END:VCALENDAR
