BEGIN:VCALENDAR
PRODID:-//Riksbanken//riksbanken.se//SV
VERSION:2.0
BEGIN:VEVENT
DTSTART:20250220T110000Z
DTSTAMP:20260420T153048Z
UID:0284dd9ba2fd4b928a3d71d0890b4159
CREATED:20260420T153048Z
DESCRIPTION:First Deputy Governor Anna Breman will visit Kiruna to discuss how trade barriers affect the Swedish economy and inflation at a lunch event organised by Norrbotten Chamber of Commerce at Scandic Kiruna.
For more information, contact Åsa Johansson at Norrbotten Chamber of Commerce.
Anna Breman is available on site for comments to the media after the presentation. For more information, please contact press secretary Charlotta Edler, charlotta.edler@riksbank.se, mobile +46 76-725 66 24 .\n\nOrganiser:  Norrbotten Chamber of Commerce
LAST-MODIFIED:20260420T153048Z
LOCATION:Scandic Kiruna, Stadshustorget 11, Kiruna
SEQUENCE:0
STATUS:CONFIRMED
SUMMARY:Breman: How trade barriers affect the Swedish economy and inflation  
TRANSP:OPAQUE
END:VEVENT
END:VCALENDAR
