BEGIN:VCALENDAR
PRODID:-//Riksbanken//riksbanken.se//SV
VERSION:2.0
BEGIN:VEVENT
DTSTART:20250303T083000Z
DTSTAMP:20260421T213437Z
UID:ec5201162c384534bf7f9913f801b29a
CREATED:20260421T213437Z
DESCRIPTION:
LAST-MODIFIED:20260421T213437Z
LOCATION:
SEQUENCE:0
STATUS:CONFIRMED
SUMMARY:The Riksbank's Business Survey, February 2025
TRANSP:OPAQUE
END:VEVENT
END:VCALENDAR
