BEGIN:VCALENDAR
PRODID:-//Riksbanken//riksbanken.se//SV
VERSION:2.0
BEGIN:VEVENT
DTSTART:20250304T080000Z
DTSTAMP:20260421T213240Z
UID:24fd43556a55486f948b152300171914
CREATED:20260421T213240Z
DESCRIPTION:
LAST-MODIFIED:20260421T213240Z
LOCATION:
SEQUENCE:0
STATUS:CONFIRMED
SUMMARY:Meeting of the Executive Board of the Riksbank
TRANSP:OPAQUE
END:VEVENT
END:VCALENDAR
