BEGIN:VCALENDAR
PRODID:-//Riksbanken//riksbanken.se//SV
VERSION:2.0
BEGIN:VEVENT
DTSTART:20250307T123000Z
DTSTAMP:20260421T230237Z
UID:65d2736a35214989ac1d269dbb18e8c9
CREATED:20260421T230237Z
DESCRIPTION:Governor Erik Thedéen visits Visby to discuss the economic situation and current monetary policy at the County Administrative Board of Gotland County.
Erik Thedéen will be available on site for comments to the media after the event. For more information, please contact Press Officer Susanne Meyer, susanne.meyer@riksbank.se, mobile: +46 70 246 61 67.\n\nOrganiser:  County Administrative Board of Gotland County
LAST-MODIFIED:20260421T230237Z
LOCATION:Governor’s Residence, Strandgatan 1, Visby
SEQUENCE:0
STATUS:CONFIRMED
SUMMARY:[Cancelled] Thedéen: The economic situation and current monetary policy
TRANSP:OPAQUE
END:VEVENT
END:VCALENDAR
