BEGIN:VCALENDAR
PRODID:-//Riksbanken//riksbanken.se//SV
VERSION:2.0
BEGIN:VEVENT
DTSTART:20250310T083000Z
DTSTAMP:20260421T213303Z
UID:3b42d03c92c7417c8919681d0da79ddc
CREATED:20260421T213303Z
DESCRIPTION:
LAST-MODIFIED:20260421T213303Z
LOCATION:
SEQUENCE:0
STATUS:CONFIRMED
SUMMARY:Publication of the Payments Report 2025
TRANSP:OPAQUE
END:VEVENT
END:VCALENDAR
