BEGIN:VCALENDAR
PRODID:-//Riksbanken//riksbanken.se//SV
VERSION:2.0
BEGIN:VEVENT
DTSTART:20250310T120000Z
DTSTAMP:20260421T213703Z
UID:8ed0537c772b4d20b4cfb2dbfd3a9ffe
CREATED:20260421T213703Z
DESCRIPTION:The Riksbank is arranging a press conference on the Payments Report 2025 with Governor Erik Thedéen and Elin Ritola, Head of Payment Analysis and Innovation. Press cards or the equivalent are required to participate. Advance registration is required, to press officer Susanne Meyer, susanne.meyer@riksbank.se no later than 12:00 on 10 March.
The press conference will be broadcast live on the Riksbank’s website at riksbank.se and on Youtube.
For more information, contact the press office, either by telephone 08-787 02 00 or by e-mail to susanne.meyer@riksbank.se.
LAST-MODIFIED:20260421T213703Z
LOCATION:The Riksbank, Brunkebergstorg
SEQUENCE:0
STATUS:CONFIRMED
SUMMARY:Press conference on the Payments Report 2025
TRANSP:OPAQUE
END:VEVENT
END:VCALENDAR
