BEGIN:VCALENDAR
PRODID:-//Riksbanken//riksbanken.se//SV
VERSION:2.0
BEGIN:VEVENT
DTSTART:20250311T080000Z
DTSTAMP:20260421T230237Z
UID:c184679ca08641e1a0f8945b9fe3662f
CREATED:20260421T230237Z
DESCRIPTION:The Executive Board will take part in an open hearing at the Committee on Finance about the Riksbank's activities in 2024 and current monetary policy.
The meeting is open to the public and the media and can also be viewed live or on demand afterwards via the Riksdag’s webb tv.
Erik Thedéen will be available on site for comments to the media after the event. For more information, please contact Press Officer Tomas Lundberg, tomas.lundberg@riksbank.se , mobile: +46 70 246 61 57.\n\nOrganiser:  Riksdag Committee on Finance
LAST-MODIFIED:20260421T230237Z
LOCATION:Förstakammarsalen, Allmänhetens entré, Riksgatan 3, Stockholm
SEQUENCE:0
STATUS:CONFIRMED
SUMMARY:Open hearing of the Executive Board by the Riksdag Committee on Finance
TRANSP:OPAQUE
END:VEVENT
END:VCALENDAR
