BEGIN:VCALENDAR
PRODID:-//Riksbanken//riksbanken.se//SV
VERSION:2.0
BEGIN:VEVENT
DTSTART:20250313T080000Z
DTSTAMP:20260421T213606Z
UID:c76d89d0480a47dcbecffd8140f08114
CREATED:20260421T213606Z
DESCRIPTION:
LAST-MODIFIED:20260421T213606Z
LOCATION:
SEQUENCE:0
STATUS:CONFIRMED
SUMMARY:Meeting of the Executive Board of the Riksbank
TRANSP:OPAQUE
END:VEVENT
END:VCALENDAR
