BEGIN:VCALENDAR
PRODID:-//Riksbanken//riksbanken.se//SV
VERSION:2.0
BEGIN:VEVENT
DTSTART:20250319T080000Z
DTSTAMP:20260421T225731Z
UID:9540dff38a244cfdb66677ccb44251f5
CREATED:20260421T225731Z
DESCRIPTION:Monetary policy meeting at which the Executive Board takes a decision on monetary policy including the policy rate.
Agenda (in swedish) here.
LAST-MODIFIED:20260421T225731Z
LOCATION:
SEQUENCE:0
STATUS:CONFIRMED
SUMMARY:Monetary policy meeting: Decision on monetary policy including the policy rate
TRANSP:OPAQUE
END:VEVENT
END:VCALENDAR
