BEGIN:VCALENDAR
PRODID:-//Riksbanken//riksbanken.se//SV
VERSION:2.0
BEGIN:VEVENT
DTSTART:20250320T083000Z
DTSTAMP:20260421T213149Z
UID:2271f3ef122a424183a807e0fc9e5d06
CREATED:20260421T213149Z
DESCRIPTION:The Executive Board’s monetary policy decision, including the decision on the policy rate, will be published together with the Monetary Policy Report for March 2025.
The decision on the level of the policy rate will apply from 26 March 2025.
LAST-MODIFIED:20260421T213149Z
LOCATION:
SEQUENCE:0
STATUS:CONFIRMED
SUMMARY:Publication of monetary policy decision, including the policy rate, and the Monetary Policy Report
TRANSP:OPAQUE
END:VEVENT
END:VCALENDAR
