BEGIN:VCALENDAR
PRODID:-//Riksbanken//riksbanken.se//SV
VERSION:2.0
BEGIN:VEVENT
DTSTART:20250326T080000Z
DTSTAMP:20260421T213416Z
UID:0b65e856cf684e0e8d20842287e1b46a
CREATED:20260421T213416Z
DESCRIPTION:
LAST-MODIFIED:20260421T213416Z
LOCATION:
SEQUENCE:0
STATUS:CONFIRMED
SUMMARY:Meeting of the Executive Board of the Riksbank
TRANSP:OPAQUE
END:VEVENT
END:VCALENDAR
