BEGIN:VCALENDAR
PRODID:-//Riksbanken//riksbanken.se//SV
VERSION:2.0
BEGIN:VEVENT
DTSTART:20250326T083000Z
DTSTAMP:20260421T213826Z
UID:5aeaf61c8fad4a7eb4ff0ce8b0368882
CREATED:20260421T213826Z
DESCRIPTION:The minutes from the Executive Board's monetary policy discussion on 19 March 2025 will be published.
LAST-MODIFIED:20260421T213826Z
LOCATION:
SEQUENCE:0
STATUS:CONFIRMED
SUMMARY:Publication of the minutes from the monetary policy meeting
TRANSP:OPAQUE
END:VEVENT
END:VCALENDAR
