BEGIN:VCALENDAR
PRODID:-//Riksbanken//riksbanken.se//SV
VERSION:2.0
BEGIN:VEVENT
DTSTART:20250327T110000Z
DTSTAMP:20260421T213514Z
UID:4a30431818a34f978fbbebbf71d238c6
CREATED:20260421T213514Z
DESCRIPTION:First Deputy Governor Anna Breman will discuss current monetary policy and the economic situation at DNB.
For more information, contact Ann-Charlotte Hedström at DNB.
Anna Breman will be available on site for comments to the media after the event. For more information, please contact Press Officer Susanne Meyer, Susanne.meyer@riksbank.se, mobile: +46 70 246 61 67.\n\nOrganiser:  DNB
LAST-MODIFIED:20260421T213514Z
LOCATION:Regeringsgatan 59, Sixth floor, Stockholm
SEQUENCE:0
STATUS:CONFIRMED
SUMMARY:Breman: Current monetary policy and the economic situation
TRANSP:OPAQUE
END:VEVENT
END:VCALENDAR
