BEGIN:VCALENDAR
PRODID:-//Riksbanken//riksbanken.se//SV
VERSION:2.0
BEGIN:VEVENT
DTSTART:20250328T120000Z
DTEND:20250328T140000Z
DTSTAMP:20260421T213246Z
UID:872e4ca488644fa5ad338a5b1b4f90cd
CREATED:20260421T213246Z
DESCRIPTION:
LAST-MODIFIED:20260421T213246Z
LOCATION:
SEQUENCE:0
STATUS:CONFIRMED
SUMMARY:Meeting of the General Council of the Riksbank
TRANSP:OPAQUE
END:VEVENT
END:VCALENDAR
