BEGIN:VCALENDAR
PRODID:-//Riksbanken//riksbanken.se//SV
VERSION:2.0
BEGIN:VEVENT
DTSTART:20250328T083000Z
DTSTAMP:20260421T230017Z
UID:53e681502f014fd9a6a1439552b949ba
CREATED:20260421T230017Z
DESCRIPTION:The report "Account of Monetary Policy in 2024" is published on the Riksbank's website.
LAST-MODIFIED:20260421T230017Z
LOCATION:
SEQUENCE:0
STATUS:CONFIRMED
SUMMARY:The report Account of Monetary Policy in 2024 will be published
TRANSP:OPAQUE
END:VEVENT
END:VCALENDAR
