BEGIN:VCALENDAR
PRODID:-//Riksbanken//riksbanken.se//SV
VERSION:2.0
BEGIN:VEVENT
DTSTART:20250331T160000Z
DTSTAMP:20260421T213303Z
UID:bd169d589db644d4955760d2a58fc536
CREATED:20260421T213303Z
DESCRIPTION:First Deputy Governor Anna Breman discusses current and future challenges in monetary policy, digital currencies and payment preparedness at Unga aktiesparare.
For more information, contact stockholmcity@ungaaktiesparare.se.\n\nOrganiser:  Unga aktiesparare
LAST-MODIFIED:20260421T213303Z
LOCATION:David Bagares Gata 3, Stockholm
SEQUENCE:0
STATUS:CONFIRMED
SUMMARY:Breman: Future monetary policy, payments, and preparedness
TRANSP:OPAQUE
END:VEVENT
END:VCALENDAR
