BEGIN:VCALENDAR
PRODID:-//Riksbanken//riksbanken.se//SV
VERSION:2.0
BEGIN:VEVENT
DTSTART:20250401T070000Z
DTSTAMP:20260424T202721Z
UID:e531569033db4c39960a523eaf5e6ed8
CREATED:20260424T202721Z
DESCRIPTION:Deputy Governor Per Jansson visits London. He will discuss current monetary policy at Nordea.
For more inflormation, contact Joe Tucker at Nordea: jo.tucker@nordea.com, telephone +44 (0) 207 726 9080.
The event is in local time.
Per Jansson will be available on site for comments to the media after the event. For more information, please contact Press Officer Susanne Meyer, susanne.meyer@riksbank.se, mobile: +46 70 246 61 67.\n\nOrganiser:  Nordea
LAST-MODIFIED:20260424T202721Z
LOCATION:Nordea, 6th floor, 5 Aldermanbury Square, London
SEQUENCE:0
STATUS:CONFIRMED
SUMMARY:Jansson: Current monetary policy
TRANSP:OPAQUE
END:VEVENT
END:VCALENDAR
