BEGIN:VCALENDAR
PRODID:-//Riksbanken//riksbanken.se//SV
VERSION:2.0
BEGIN:VEVENT
DTSTART:20250403T094500Z
DTSTAMP:20260424T203007Z
UID:372fa2f497c34c6ea391d06ff230d56c
CREATED:20260424T203007Z
DESCRIPTION:Governor Erik Thedéen participates in a panel discussion at a conference on how capital markets in the EU can be developed to meet investment needs and help strengthen Europe’s competitiveness. The conference is organised by the Government Offices of Sweden and the Confederation of Swedish Enterprise.
Are you a journalist who would like to participate? Contact Amanda Florin amanda.florin@svensktnaringsliv.se.
Erik Thedéen will be available on site for comments to the media after the event. For more information, please contact Press Officer Tomas Lundberg, tomas.lundberg@riksbank.se, mobile: +46 70 246 61 57.\n\nOrganiser:  Government Offices of Sweden and Confederation of Swedish Enterprise
LAST-MODIFIED:20260424T203007Z
LOCATION:Wisdome, National Museum of Science and Technology, Museivägen 7, Stockholm
SEQUENCE:0
STATUS:CONFIRMED
SUMMARY:Thedéen: Nordic-Baltic ecosystem in a European context
TRANSP:OPAQUE
END:VEVENT
END:VCALENDAR
