BEGIN:VCALENDAR
PRODID:-//Riksbanken//riksbanken.se//SV
VERSION:2.0
BEGIN:VEVENT
DTSTART:20250408T090000Z
DTSTAMP:20260424T202645Z
UID:101b8121c67747ffbf92d5689704c419
CREATED:20260424T202645Z
DESCRIPTION:Erik Thedéen will be available for comments to media afterwards at the venue. Contact head of press Tomas Lundberg at tel. +46 (0)70 246 61 57 or tomas.lundberg@riksbank.se for more information.
LAST-MODIFIED:20260424T202645Z
LOCATION:Skandiasalen
SEQUENCE:0
STATUS:CONFIRMED
SUMMARY:Erik Thedéen will attend the meeting of the Riksdag Committee on Finance before IMF/World Bank spring meeting
TRANSP:OPAQUE
END:VEVENT
END:VCALENDAR
