BEGIN:VCALENDAR
PRODID:-//Riksbanken//riksbanken.se//SV
VERSION:2.0
BEGIN:VEVENT
DTSTART:20250409T070000Z
DTSTAMP:20260424T203145Z
UID:90377995ea244de99253df048a843388
CREATED:20260424T203145Z
DESCRIPTION:
LAST-MODIFIED:20260424T203145Z
LOCATION:
SEQUENCE:0
STATUS:CONFIRMED
SUMMARY:Meeting of the Executive Board of the Riksbank
TRANSP:OPAQUE
END:VEVENT
END:VCALENDAR
