BEGIN:VCALENDAR
PRODID:-//Riksbanken//riksbanken.se//SV
VERSION:2.0
BEGIN:VEVENT
DTSTART:20250420T220000Z
DTSTAMP:20260424T202654Z
UID:4e13fe2bdbf149eab9486476f1938b2e
CREATED:20260424T202654Z
DESCRIPTION:Governor Erik Thedéen and Deputy Governor Anna Seim will participate in the International Monetary Fund’s spring meetings.
Read more about the spring meeting on the IMF website.\n\nOrganiser:  World Bank Group (WBG) and the International Monetary Fund (IMF)
LAST-MODIFIED:20260424T202654Z
LOCATION:IMF Headquarters , Washington DC
SEQUENCE:0
STATUS:CONFIRMED
SUMMARY:Thedéen and Seim to participate in IMF spring meetings
TRANSP:OPAQUE
END:VEVENT
END:VCALENDAR
