BEGIN:VCALENDAR
PRODID:-//Riksbanken//riksbanken.se//SV
VERSION:2.0
BEGIN:VEVENT
DTSTART:20250423T220000Z
DTEND:20250424T215900Z
DTSTAMP:20260424T202849Z
UID:44dc32c014e9431c9e6c60362b6bd45a
CREATED:20260424T202849Z
DESCRIPTION:Deputy Governor Anna Seim will participate in a panel discussion about central banks' monetary frameworks at Peterson Institute for International Economics.
The event can be followed live or watch afterwards via the PIIE´s website.
For more information, contact Petersen Institute for International Economics (meetings@piie.com).
The event is taking place 9.00 AM (EST) and 3.00 PM (Swedish time).\n\nOrganiser:  Peterson Institute for International Economics
LAST-MODIFIED:20260424T202849Z
LOCATION:C. Fred Bergsten Conference Center at PIIE, 1750 Massachusetts, Ave NW Washington, D.C.
SEQUENCE:0
STATUS:CONFIRMED
SUMMARY:Seim: Panel Strategy Reviews at Petersen Institute
TRANSP:OPAQUE
END:VEVENT
END:VCALENDAR
