BEGIN:VCALENDAR
PRODID:-//Riksbanken//riksbanken.se//SV
VERSION:2.0
BEGIN:VEVENT
DTSTART:20250508T073000Z
DTSTAMP:20260423T133044Z
UID:6d05d0509aa540c9b733053eae61f047
CREATED:20260423T133044Z
DESCRIPTION:The Executive Board’s monetary policy decision, including the decision on the policy rate, will be published together with the Monetary Policy Update for May 2025.
The decision on the level of the policy rate will apply from 14 May 2025.
LAST-MODIFIED:20260423T133044Z
LOCATION:
SEQUENCE:0
STATUS:CONFIRMED
SUMMARY:Publication of monetary policy decision, including the policy rate, and the Monetary Policy Update
TRANSP:OPAQUE
END:VEVENT
END:VCALENDAR
