BEGIN:VCALENDAR
PRODID:-//Riksbanken//riksbanken.se//SV
VERSION:2.0
BEGIN:VEVENT
DTSTART:20250509T110000Z
DTEND:20250509T130000Z
DTSTAMP:20260423T133121Z
UID:f1396b5775894104b2216d27a2836f64
CREATED:20260423T133121Z
DESCRIPTION:
LAST-MODIFIED:20260423T133121Z
LOCATION:
SEQUENCE:0
STATUS:CONFIRMED
SUMMARY:Meeting of the General Council of the Riksbank
TRANSP:OPAQUE
END:VEVENT
END:VCALENDAR
