BEGIN:VCALENDAR
PRODID:-//Riksbanken//riksbanken.se//SV
VERSION:2.0
BEGIN:VEVENT
DTSTART:20250509T060000Z
DTSTAMP:20260423T133121Z
UID:cc279e7d697b4e56a1f2be69ebd4119a
CREATED:20260423T133121Z
DESCRIPTION:Deputy Governor Anna Seim will discuss the latest monetary policy decision and the economic situation at Nordea.
For more information, contact Christine Lexell (christine.lexell@nordea.se) at Nordea.
Anna Seim will be available on site for comments to the media after the event. For more information, please contact Press Officer Susanne Meyer, susanne.meyer@riksbank.se, mobile: +46 70 246 61 67.\n\nOrganiser:  Nordea
LAST-MODIFIED:20260423T133121Z
LOCATION:Norrlandsgatan 3, 111 47, Stockholm
SEQUENCE:0
STATUS:CONFIRMED
SUMMARY:Seim: The latest monetary policy decision and the economic situation
TRANSP:OPAQUE
END:VEVENT
END:VCALENDAR
