BEGIN:VCALENDAR
PRODID:-//Riksbanken//riksbanken.se//SV
VERSION:2.0
BEGIN:VEVENT
DTSTART:20250514T070000Z
DTSTAMP:20260423T133042Z
UID:f2f8e852ec6c4bd0a33c664b671b047b
CREATED:20260423T133042Z
DESCRIPTION:
LAST-MODIFIED:20260423T133042Z
LOCATION:
SEQUENCE:0
STATUS:CONFIRMED
SUMMARY:Meeting of the Executive Board of the Riksbank
TRANSP:OPAQUE
END:VEVENT
END:VCALENDAR
