BEGIN:VCALENDAR
PRODID:-//Riksbanken//riksbanken.se//SV
VERSION:2.0
BEGIN:VEVENT
DTSTART:20250514T073000Z
DTSTAMP:20260423T133121Z
UID:5ad51d5ac0e94c9ca1f3f044ab5ed12b
CREATED:20260423T133121Z
DESCRIPTION:The minutes from the Executive Board's monetary policy discussion on 7 May 2025 will be published.
LAST-MODIFIED:20260423T133121Z
LOCATION:
SEQUENCE:0
STATUS:CONFIRMED
SUMMARY:Publication of the minutes from the monetary policy meeting
TRANSP:OPAQUE
END:VEVENT
END:VCALENDAR
