BEGIN:VCALENDAR
PRODID:-//Riksbanken//riksbanken.se//SV
VERSION:2.0
BEGIN:VEVENT
DTSTART:20250516T060000Z
DTSTAMP:20260423T133120Z
UID:eb589d020ce3418598204a3d3188d4be
CREATED:20260423T133120Z
DESCRIPTION:Governor Erik Thedéen will give a speech about risk, uncertainty and geoeconomic fragmentation at Handelsbanken.
If you are a journalist and would like to participate, please contact Handelsbanken’s press office: press@handelsbanken.se / +46 8 701 80 18.
Erik Thedéen will be available on site for comments to the media after the event. For more information, please contact Press Officer Charlotta Edler, charlotta.edler@riksbank.se, mobile: +46 76 725 66 24.\n\nOrganiser:  Handelsbanken
LAST-MODIFIED:20260423T133120Z
LOCATION:Handelsbanken, Kungsträdgården, ingång Grevgränd 3 
SEQUENCE:0
STATUS:CONFIRMED
SUMMARY:Thedéen: Risk, uncertainty and geoeconomic fragmentation
TRANSP:OPAQUE
END:VEVENT
END:VCALENDAR
