BEGIN:VCALENDAR
PRODID:-//Riksbanken//riksbanken.se//SV
VERSION:2.0
BEGIN:VEVENT
DTSTART:20250521T060000Z
DTSTAMP:20260423T133044Z
UID:f80f132cedcd46bbb019482e84ba626e
CREATED:20260423T133044Z
DESCRIPTION:Deputy Governor Anna Seim will discuss current monetary policy and the economic situation at Handelsbanken in Västerås.
For more information, contact Lars Viberg (lars.viberg@handelsbanken.se) at Handelsbanken.
Anna Seim will be available on site for comments to the media after the presentation. For more information, please contact Press Secretary Charlotta Edler, charlotta.edler@riksbank.se, or 076-725 66 24.\n\nOrganiser:  Handelsbanken
LAST-MODIFIED:20260423T133044Z
LOCATION:Slottsholmen, Slottsholmsvägen 10, Västervik
SEQUENCE:0
STATUS:CONFIRMED
SUMMARY:Seim: Current monetary policy and the economic situation
TRANSP:OPAQUE
END:VEVENT
END:VCALENDAR
